BEGIN:VCALENDAR
VERSION:2.0
PRODID:-//United Way of SD&amp;G - ECPv6.15.18//NONSGML v1.0//EN
CALSCALE:GREGORIAN
METHOD:PUBLISH
X-WR-CALNAME:United Way of SD&amp;G
X-ORIGINAL-URL:https://unitedwaysdg.com
X-WR-CALDESC:Events for United Way of SD&amp;G
REFRESH-INTERVAL;VALUE=DURATION:PT1H
X-Robots-Tag:noindex
X-PUBLISHED-TTL:PT1H
BEGIN:VTIMEZONE
TZID:America/Toronto
BEGIN:DAYLIGHT
TZOFFSETFROM:-0500
TZOFFSETTO:-0400
TZNAME:EDT
DTSTART:20240310T070000
END:DAYLIGHT
BEGIN:STANDARD
TZOFFSETFROM:-0400
TZOFFSETTO:-0500
TZNAME:EST
DTSTART:20241103T060000
END:STANDARD
BEGIN:DAYLIGHT
TZOFFSETFROM:-0500
TZOFFSETTO:-0400
TZNAME:EDT
DTSTART:20250309T070000
END:DAYLIGHT
BEGIN:STANDARD
TZOFFSETFROM:-0400
TZOFFSETTO:-0500
TZNAME:EST
DTSTART:20251102T060000
END:STANDARD
BEGIN:DAYLIGHT
TZOFFSETFROM:-0500
TZOFFSETTO:-0400
TZNAME:EDT
DTSTART:20260308T070000
END:DAYLIGHT
BEGIN:STANDARD
TZOFFSETFROM:-0400
TZOFFSETTO:-0500
TZNAME:EST
DTSTART:20261101T060000
END:STANDARD
END:VTIMEZONE
BEGIN:VEVENT
DTSTART;TZID=America/Toronto:20250617T120000
DTEND;TZID=America/Toronto:20250617T140000
DTSTAMP:20260423T005946
CREATED:20250602T201126Z
LAST-MODIFIED:20250602T201350Z
UID:5278-1750161600-1750168800@unitedwaysdg.com
SUMMARY:2025 Annual General Meeting
DESCRIPTION:Join the United Way at OPG Saunders Hydro Dam Visitor Centre on Tuesday\, June 17 as we look back over the past year and share the impact made in Stormont\, Dundas & Glengarry with your generous support and collaboration.\nCome a little early to enjoy a light lunch and refreshments before the meeting starts promptly at 1 p.m.\n\n  \nWhen: Tuesday\, June 17\nTime:  Doors open at 12:00 p.m.\nWhere: OPG Saunders Hydro Dam Visitor Centre\nRSVP: https://www.eventbrite.ca/e/2025-annual-general-meeting-assemblee-generale-annuelle-tickets-1388168191429
URL:https://unitedwaysdg.com/event/2025-annual-general-meeting/
LOCATION:OPG Saunders Hydro Dam Visitor Center\, 2500 Second Street West\, Cornwall\, Ontario\, K6H 5R6\, Canada
ATTACH;FMTTYPE=image/png:https://unitedwaysdg.com/wp-content/uploads/2025/06/EventPage_Banner-01-scaled.png
END:VEVENT
END:VCALENDAR