BEGIN:VCALENDAR
VERSION:2.0
PRODID:-//United Way of SD&amp;G - ECPv6.15.18//NONSGML v1.0//EN
CALSCALE:GREGORIAN
METHOD:PUBLISH
X-WR-CALNAME:United Way of SD&amp;G
X-ORIGINAL-URL:https://unitedwaysdg.com
X-WR-CALDESC:Events for United Way of SD&amp;G
REFRESH-INTERVAL;VALUE=DURATION:PT1H
X-Robots-Tag:noindex
X-PUBLISHED-TTL:PT1H
BEGIN:VTIMEZONE
TZID:America/New_York
BEGIN:DAYLIGHT
TZOFFSETFROM:-0500
TZOFFSETTO:-0400
TZNAME:EDT
DTSTART:20190310T070000
END:DAYLIGHT
BEGIN:STANDARD
TZOFFSETFROM:-0400
TZOFFSETTO:-0500
TZNAME:EST
DTSTART:20191103T060000
END:STANDARD
BEGIN:DAYLIGHT
TZOFFSETFROM:-0500
TZOFFSETTO:-0400
TZNAME:EDT
DTSTART:20200308T070000
END:DAYLIGHT
BEGIN:STANDARD
TZOFFSETFROM:-0400
TZOFFSETTO:-0500
TZNAME:EST
DTSTART:20201101T060000
END:STANDARD
BEGIN:DAYLIGHT
TZOFFSETFROM:-0500
TZOFFSETTO:-0400
TZNAME:EDT
DTSTART:20210314T070000
END:DAYLIGHT
BEGIN:STANDARD
TZOFFSETFROM:-0400
TZOFFSETTO:-0500
TZNAME:EST
DTSTART:20211107T060000
END:STANDARD
END:VTIMEZONE
BEGIN:VEVENT
DTSTART;TZID=America/New_York:20201127T100000
DTEND;TZID=America/New_York:20201218T120000
DTSTAMP:20260422T232929
CREATED:20201123T173050Z
LAST-MODIFIED:20201123T173050Z
UID:3315-1606471200-1608292800@unitedwaysdg.com
SUMMARY:Celebration Sleigh 2020
DESCRIPTION:Celebration Sleigh is back!\nWe’re back again this year with our annual Celebration Sleigh raffle to support the 2020 Campaign\, sponsored by the Bank of Montreal! Get your tickets from Baxtrom’s Your Independent Grocer and Canadian Tire from November 27 – December 18th! \nTickets are $5 each or 3 for $10! \nWeekly Draws\nOn Fridays (November 27\, December 4\, 11 18) at 12 pm\, we will be drawing winners for 2 $100 gift cards (Canadian Tire + Baxtrom’s YIG)! And the earlier you buy your tickets\, the more chances you have to win as your name will stay in the draws each week! \nGrand Prize\nOn Friday\, December 18 at 12 pm\, we will draw this year’s grand prize valued at $2500! Prizes include: \n$1000 cash \n$1000 in gift certificates from the LCBO\, Baxtrom’s YIG\, Canadian Tire and a gas card \n$250 gift from Baxtrom’s YIG \nFitbit Versa 2 \nWhere to buy tickets!\nBaxtrom’s Your Independent Grocer –  31 Ninth St E\, Cornwall \nVolunteers will be on-site at the lottery counter on Fridays\, Saturdays and Sundays 10 am – 2 pm. Tickets are available at the courtesy desk when we’re not there! \nCanadian Tire – 201 Ninth St E\, Cornwall \nTickets available at the cash every day! \nUnited Way SDG – 55 Water St. W\, Suite 240\, Cornwall \nStop by our office from 9 am – 4:30 pm on Monday to Fridays! \n 
URL:https://unitedwaysdg.com/event/celebration-sleigh-2020/
LOCATION:Baxtrom’s YIG + Canadian Tire
END:VEVENT
END:VCALENDAR