BEGIN:VCALENDAR
VERSION:2.0
PRODID:-//United Way of SD&amp;G - ECPv6.15.18//NONSGML v1.0//EN
CALSCALE:GREGORIAN
METHOD:PUBLISH
X-ORIGINAL-URL:https://unitedwaysdg.com
X-WR-CALDESC:Events for United Way of SD&amp;G
REFRESH-INTERVAL;VALUE=DURATION:PT1H
X-Robots-Tag:noindex
X-PUBLISHED-TTL:PT1H
BEGIN:VTIMEZONE
TZID:America/Toronto
BEGIN:DAYLIGHT
TZOFFSETFROM:-0500
TZOFFSETTO:-0400
TZNAME:EDT
DTSTART:20240310T070000
END:DAYLIGHT
BEGIN:STANDARD
TZOFFSETFROM:-0400
TZOFFSETTO:-0500
TZNAME:EST
DTSTART:20241103T060000
END:STANDARD
BEGIN:DAYLIGHT
TZOFFSETFROM:-0500
TZOFFSETTO:-0400
TZNAME:EDT
DTSTART:20250309T070000
END:DAYLIGHT
BEGIN:STANDARD
TZOFFSETFROM:-0400
TZOFFSETTO:-0500
TZNAME:EST
DTSTART:20251102T060000
END:STANDARD
BEGIN:DAYLIGHT
TZOFFSETFROM:-0500
TZOFFSETTO:-0400
TZNAME:EDT
DTSTART:20260308T070000
END:DAYLIGHT
BEGIN:STANDARD
TZOFFSETFROM:-0400
TZOFFSETTO:-0500
TZNAME:EST
DTSTART:20261101T060000
END:STANDARD
END:VTIMEZONE
BEGIN:VEVENT
DTSTART;TZID=America/Toronto:20250920T100000
DTEND;TZID=America/Toronto:20250920T160000
DTSTAMP:20260423T051039
CREATED:20250620T174638Z
LAST-MODIFIED:20250822T185324Z
UID:5296-1758362400-1758384000@unitedwaysdg.com
SUMMARY:2025 Go Over The Edge for United Way - Year 3
DESCRIPTION:Safety first. Thrill Second. Impact Always\nOver The Edge is more than a moment — it’s a descent that builds hope. We’re partnering with Over The Edge and St. Lawrence Seaway Management Corporation to bring urban rappelling back to Cornwall for the third year. It’s a bold way to support local programs and make a real impact in our community. Are you ready to take the first step? \nLa sécurité avant tout. L’adrénaline au rendez-vous. L’impact durable.\nOver The Edge\, c’est plus qu’un moment — c’est une descente qui fait naître l’espoir. Nous nous associons à Over The Edge et à la St. Lawrence Seaway Management Corporation pour ramener le rappel urbain à Cornwall pour une troisième année. C’est une façon audacieuse d’appuyer les programmes locaux et de faire une vraie différence dans notre communauté. Êtes-vous prêt à faire le premier pas? \nWHEN/QUAND: September 20 septembre 2025\nWHERE/OÙ: St. Lawrence Seaway Management Corporation (202 Pitt St.\, Cornwall\, ON) \nREGISTER HERE
URL:https://unitedwaysdg.com/event/2025-go-over-the-edge-for-united-way-year-3/
LOCATION:St. Lawrence Seaway Management Corporation\, 202 Pitt St\, Cornwall\, Ontario\, K6J 3P7\, Canada
ATTACH;FMTTYPE=image/png:https://unitedwaysdg.com/wp-content/uploads/2025/06/OTE_EventBanner-01.png
END:VEVENT
END:VCALENDAR