BEGIN:VCALENDAR
VERSION:2.0
PRODID:-//United Way of SD&amp;G - ECPv6.15.18//NONSGML v1.0//EN
CALSCALE:GREGORIAN
METHOD:PUBLISH
X-WR-CALNAME:United Way of SD&amp;G
X-ORIGINAL-URL:https://unitedwaysdg.com
X-WR-CALDESC:Events for United Way of SD&amp;G
REFRESH-INTERVAL;VALUE=DURATION:PT1H
X-Robots-Tag:noindex
X-PUBLISHED-TTL:PT1H
BEGIN:VTIMEZONE
TZID:America/Toronto
BEGIN:DAYLIGHT
TZOFFSETFROM:-0500
TZOFFSETTO:-0400
TZNAME:EDT
DTSTART:20200308T070000
END:DAYLIGHT
BEGIN:STANDARD
TZOFFSETFROM:-0400
TZOFFSETTO:-0500
TZNAME:EST
DTSTART:20201101T060000
END:STANDARD
BEGIN:DAYLIGHT
TZOFFSETFROM:-0500
TZOFFSETTO:-0400
TZNAME:EDT
DTSTART:20210314T070000
END:DAYLIGHT
BEGIN:STANDARD
TZOFFSETFROM:-0400
TZOFFSETTO:-0500
TZNAME:EST
DTSTART:20211107T060000
END:STANDARD
BEGIN:DAYLIGHT
TZOFFSETFROM:-0500
TZOFFSETTO:-0400
TZNAME:EDT
DTSTART:20220313T070000
END:DAYLIGHT
BEGIN:STANDARD
TZOFFSETFROM:-0400
TZOFFSETTO:-0500
TZNAME:EST
DTSTART:20221106T060000
END:STANDARD
BEGIN:DAYLIGHT
TZOFFSETFROM:-0500
TZOFFSETTO:-0400
TZNAME:EDT
DTSTART:20230312T070000
END:DAYLIGHT
BEGIN:STANDARD
TZOFFSETFROM:-0400
TZOFFSETTO:-0500
TZNAME:EST
DTSTART:20231105T060000
END:STANDARD
END:VTIMEZONE
BEGIN:VTIMEZONE
TZID:America/New_York
BEGIN:DAYLIGHT
TZOFFSETFROM:-0500
TZOFFSETTO:-0400
TZNAME:EDT
DTSTART:20190310T070000
END:DAYLIGHT
BEGIN:STANDARD
TZOFFSETFROM:-0400
TZOFFSETTO:-0500
TZNAME:EST
DTSTART:20191103T060000
END:STANDARD
BEGIN:DAYLIGHT
TZOFFSETFROM:-0500
TZOFFSETTO:-0400
TZNAME:EDT
DTSTART:20200308T070000
END:DAYLIGHT
BEGIN:STANDARD
TZOFFSETFROM:-0400
TZOFFSETTO:-0500
TZNAME:EST
DTSTART:20201101T060000
END:STANDARD
BEGIN:DAYLIGHT
TZOFFSETFROM:-0500
TZOFFSETTO:-0400
TZNAME:EDT
DTSTART:20210314T070000
END:DAYLIGHT
BEGIN:STANDARD
TZOFFSETFROM:-0400
TZOFFSETTO:-0500
TZNAME:EST
DTSTART:20211107T060000
END:STANDARD
END:VTIMEZONE
BEGIN:VEVENT
DTSTART;TZID=America/Toronto:20221128T080000
DTEND;TZID=America/Toronto:20221216T120000
DTSTAMP:20260422T184830
CREATED:20221129T174359Z
LAST-MODIFIED:20221129T174640Z
UID:4133-1669622400-1671192000@unitedwaysdg.com
SUMMARY:2022 Celebration Sleigh
DESCRIPTION:Celebration Sleigh is back!\nWe’re back again this year with our annual Celebration Sleigh raffle to support the 2022 Campaign! Get your tickets from Baxtrom’s Your Independent Grocer and Canadian Tire from November 28 – December 16th! \nTickets are $5 each or 3 for $10! \nWeekly Draws\nOn Friday\, Dec 2\, 9 (2 pm)\, 16 (12 pm) we will be drawing winners for 2 $100 gift cards (Canadian Tire + Baxtrom’s YIG)! And the earlier you buy your tickets\, the more chances you have to win as your name will stay in the draws each week! \nGrand Prize\nOn Friday\, December 16 at 12 pm\, we will draw this year’s grand prize valued at $3029! Prizes include: \n\n$1000 cash\n$1500 in gift certificates from the LCBO\, Baxtrom’s YIG\, Canadian Tire and a gas card\nMeta Quest 2 128GB VR Headset with Touch Controllers\n\n\nWhere to buy tickets!\nBaxtrom’s Your Independent Grocer –  31 Ninth St E\, Cornwall \nTickets available at the cash every day! Volunteers will be on site Friday Dec. 2 and 16. \nCanadian Tire – 201 Ninth St E\, Cornwall   \nTickets available at the cash every day! Volunteers will be on site on Friday\, Dec 9. \nUnited Way SDG – 55 Water St. W\, Suite 240\, Cornwall \nStop by our office from 8:30 am – 4:30 pm on Monday to Fridays!
URL:https://unitedwaysdg.com/event/2022-celebration-sleigh/
LOCATION:Ontario
ATTACH;FMTTYPE=image/png:https://unitedwaysdg.com/wp-content/uploads/2022/11/EventPageBanner-01.png
END:VEVENT
BEGIN:VEVENT
DTSTART;TZID=America/Toronto:20220608T113000
DTEND;TZID=America/Toronto:20220608T133000
DTSTAMP:20260422T184830
CREATED:20220506T205443Z
LAST-MODIFIED:20220530T165614Z
UID:3873-1654687800-1654695000@unitedwaysdg.com
SUMMARY:2022 Annual General Meeting
DESCRIPTION:We invite you to attend our Annual General Meeting on Wednesday\, June 8\, 2022\nJoin us for an in-person presentation at the Cornwall Public Library or virtually on Zoom as we look back over the past year and share the impact we have made in Stormont\, Dundas & Glengarry. Come a little early to enjoy a light lunch with sandwiches and refreshments at the Cornwall Library before the meeting starts promptly at noon. \nLearn about how we’ve worked with our community partners\, donors\, businesses and government officials to address the impact the pandemic has had and continues to have on our community. By collaborating with many stakeholders\, we have seen how the past two years have challenged our region in a multitude of ways. That’s why\, this year\, while still supporting the necessary work of our community partners\, we also addressed a few gaps of support with new programs and partnerships. \nSchedule:\n\n11:30 am – 12:00 pm: Lunch\, refreshments\, networking (In-person only)\n12:00 pm – 1:30 pm: AGM (In-person & Virtual)\n1:30 pm: For anyone who can stay after\, the team at the Cornwall Library will take us on a tour of their facilities (In-person only)\n\nRegister:\nRSVP for the in-person event at the Cornwall Public Library: https://www.eventbrite.ca/e/330776841437 \nRegister for the virtual event on Zoom: https://us02web.zoom.us/meeting/register/tZMlduusrDwvE9aSg4Z2kFtwIed3RChPBMZX
URL:https://unitedwaysdg.com/event/2022-annual-general-meeting/
LOCATION:Cornwall Public Library\, 45 Second St E\, Cornwall\, Ontario\, K6H 1Y3\, Canada
ATTACH;FMTTYPE=image/png:https://unitedwaysdg.com/wp-content/uploads/2022/05/UWEventPage_FeatureBanner-01.png
ORGANIZER;CN="United Way SDG":MAILTO:stephanie@unitedwaysdg.com
END:VEVENT
BEGIN:VEVENT
DTSTART;TZID=America/Toronto:20220307T080000
DTEND;TZID=America/Toronto:20220322T160000
DTSTAMP:20260422T184830
CREATED:20220223T224638Z
LAST-MODIFIED:20220317T141514Z
UID:3820-1646640000-1647964800@unitedwaysdg.com
SUMMARY:2022 Tampon Tuesday Product Drive
DESCRIPTION:Tampon Tuesday donation drive in Stormont\, Dundas\, and Glengarry\n\nDonations will be collected from March 7 – 22\, 2022 at the United Way/Centraide SDG office \nWe’re bringing back Tampon Tuesday to our region! Starting the week International Women’s Day\, this two-week campaign\, in partnership with Cornwall & District Labour Council\,  is an opportunity to raise awareness about period poverty. It’s important that the most vulnerable in our region have access to menstrual hygiene products as they are often the most requested from shelters and foodbanks but the least donated. \nIn 2021\, we ran our very first Tampon Tuesday product drive in this region\, achieving an impressive 300+ packages of products donated. They were distributed to five local agencies: Agape\, Naomi House\, Akwesasne Healing Centre\, Baldwin House\, and Sexual Assault Support Services Stormont\, Dundas\, Glengarry & Akwesasne. This year\, with your help\, we want to double the amount of product donated to help even more people in our communities. \nStarting March 7 and running until March 22\, 2022\, community members are encouraged to donate pads\, tampons\, liners\, cups\, and other menstrual hygiene products to help fill this gap in our region.  \n\n4 Ways to Support\nCollection Sites: Drop off menstrual hygiene products at the locations listed below. If you would like a donation box in your business\, please email stephanie@unitedwaysdg.com \n\nUnited Way/Centraide SDG at 55 Water St. West\, Suite 240\nMorrisburg Chiropractic at 85 Main St.\, Morrisburg\n\nOnline: Donate products through our Amazon Wish List or send a monetary donation for us to purchase menstrual products here \nNote: if you are prompted to manually enter a shipping address into Amazon\, please send products to: \nStephanie Lapointe\nUnited Way Centraide SDG\n55 Water St W\, Cornwall\, ON K6J 1A1\n613-932-2051 \nRun a collection drive in your workplace or with friends/family! If your group or workplace would like to be added to the list please email stephanie@unitedwaysdg.com \nHelp us Stuff a Bus courtesy of Cornwall Transit on March 22! From 8 a.m. to 4 p.m. we will be outside Shoppers Drug Mart on Brookdale. Stop by and help us fill the bus with menstrual hygiene product donations. \n\nLocal Organizations & Businesses supporting Tampon Tuesday:\nWe thank the local businesses and organizations for supporting Tampon Tuesday this year: \n\nCornwall & District Labour Council\nCornwall Transit\nMorrisburg Chiropractic\nSandfield Place\nShoppers Drug Mart (Brookdale)\nSt. Joseph’s Continuing Care Centre\n\n\nAbout Tampon Tuesday\nStarted in London\, Ontario\, Tampon Tuesday is a grassroots movement about dignity. It started in 2009 to address the increasing need for menstrual hygiene products and continues to grow as an opportunity to collect these products for people experiencing period poverty.
URL:https://unitedwaysdg.com/event/2022-tampon-tuesday-product-drive/
LOCATION:United Way/Centraide SDG\, 55 Water Street W\, Cornwall\, ON\, K6J 1A1\, Canada
ATTACH;FMTTYPE=image/png:https://unitedwaysdg.com/wp-content/uploads/2021/03/EventPage_Banner-01-2.png
ORGANIZER;CN="United Way SDG":MAILTO:stephanie@unitedwaysdg.com
END:VEVENT
BEGIN:VEVENT
DTSTART;TZID=America/Toronto:20211126T100000
DTEND;TZID=America/Toronto:20211217T120000
DTSTAMP:20260422T184830
CREATED:20211125T225517Z
LAST-MODIFIED:20211129T153800Z
UID:3770-1637920800-1639742400@unitedwaysdg.com
SUMMARY:2021 Celebration Sleigh
DESCRIPTION:Celebration Sleigh is back!\nWe’re back again this year with our annual Celebration Sleigh raffle to support the 2021 Campaign\, sponsored by the Bank of Montreal! Get your tickets from Baxtrom’s Your Independent Grocer and Canadian Tire from November 26 – December 17th! \nTickets are $5 each or 3 for $10! \nWeekly Draws\nOn Fridays (November 26\, December 3\, 10\, 17) at 12 pm\, we will be drawing winners for 2 $100 gift cards (Canadian Tire + Baxtrom’s YIG)! And the earlier you buy your tickets\, the more chances you have to win as your name will stay in the draws each week! \nGrand Prize\nOn Friday\, December 17 at 12 pm\, we will draw this year’s grand prize valued at $3000! Prizes include: \n$1150 cash \n$1150 in gift certificates from the LCBO\, Baxtrom’s YIG\, Canadian Tire and a gas card \n$250 gift from Baxtrom’s YIG \nVisionTek Bluetooth Soundtube thanks to Computer Sense Cornwall \n4 LL Bean Sonic Snow Saucers  \n4 Otterbox Mugs \nHot Chocolate  \nWhere to buy tickets!\nBaxtrom’s Your Independent Grocer –  31 Ninth St E\, Cornwall \nVolunteers will be on-site at the Community and Charity Booth on Fridays and Saturdays starting on Sat\, Nov 27 10 am – 2 pm. \nCanadian Tire – 201 Ninth St E\, Cornwall & 400 Main St S\, Alexandria  \nTickets available at the cash every day! \nUnited Way SDG – 55 Water St. W\, Suite 240\, Cornwall \nStop by our office from 9:30 am – 4:30 pm on Monday to Fridays!
URL:https://unitedwaysdg.com/event/2021-celebration-sleigh/
LOCATION:Baxtrom’s YIG + Canadian Tire + United Way SDG Office
ATTACH;FMTTYPE=image/png:https://unitedwaysdg.com/wp-content/uploads/2021/11/Celebration-1.png
END:VEVENT
BEGIN:VEVENT
DTSTART;TZID=America/Toronto:20211015T190000
DTEND;TZID=America/Toronto:20211015T220000
DTSTAMP:20260422T184830
CREATED:20211006T013927Z
LAST-MODIFIED:20211006T191450Z
UID:3680-1634324400-1634335200@unitedwaysdg.com
SUMMARY:US AND THEM Film Screening & Panel Discussion
DESCRIPTION:We invite you to be part of an exclusive screening of US AND THEM at The Port Theatre on Friday\, October 15 at 7PM. A powerful documentary on the realities of homelessness and addiction\, this film will spark many important and difficult discussions. Sponsored by Suicide Prevention Coalition of Champlain East\, this one-night event includes a post-film panel discussion to talk about how these issues relate to our own community. \nSponsored by \n \n                                                                                  \n\nABOUT US AND THEM\n \nFilmed over a decade\, US AND THEM is a deeply visceral film about transformation through human connection. This documentary is composed of striking portraits of four extraordinary homeless individuals as they struggle with addictions. The film is directed by Krista Loughton and Jennifer Abbott (THE CORPORATION). The story follows Loughton’s ten-year journey exploring the worlds of Dawnellda\, Stan\, Eddie and Karen\, who she attempts to help. In the end\, it is Loughton herself who is changed. Punctuated with First Nations wisdom\, and Dr. Gabor Maté’s insight into the root causes of addiction\, the film shows there is no difference between US AND THEM. \n“Us and Them puts a human face on homelessness moving it from the political and economic realms into the human realm. This is done in a direct and personal way that the viewer can identify with.”  –Dr. Gabor Maté \n“By putting real human faces to these issues this film provides an invaluable service\, bringing a level of acceptance and understanding to a subject that has been hidden in silence and wrapped in stigma for too long.” -Victoria Mayor\, Lisa Helps \nTo bring attention to the issues of homelessness and addiction\, US AND THEM has been touring North American communities\, rural and urban\, from coast-to-coast. So far\, at every showing\, the audience response is the same — they are deeply moved. People leave the theatre and typically never look at someone living on our streets the same way again. \n  \nAN IMPORTANT POST-FILM PANEL DISCUSSION\nHomelessness and affordable housing are serious concerns in our region. The rising cost of rent and unaffordable for-sale prices in Cornwall\, Akwesasne and the Counties have detrimentally impacted many of our most vulnerable and marginalized communities. Homelessness is not something we see here in the same way as larger cities\, but it exists right under our noses. Couch surfing\, living in older motels\, squatting and even setting up camp in Tent City are all realities for many living in SDGCA. The stories depicted in the film are lived experiences here\, and we need to be talking about it. \nModerated by United Way Centraide SDG Executive Director\, Juliette Labossière\, the post-film panel will include representatives from  Akwesasne Healing Centre\, Centre 105\, Roy McMurtry Legal Clinic Legal Clinic\, House of Lazarus\, and the Social & Housing Services Department with City of Cornwall who will all share their knowledge of this crisis. \n\nDONATE WHAT YOU CAN TO WATCH\nWe invite everyone to attend this special event. You can reserve your spot by clicking the button below or show up at the door. We only ask that you donate what you can as the cost of your ticket. Donations will benefit both the United Way Centraide SDG and the Akwesasne Healing Centre\, and all money raised from this screening will be split 50/50 between both organizations. \nDon’t miss this one-night event that will tackle some very real and difficult issues that we not only need to be aware of\, but also talking about. \n  \n \n 
URL:https://unitedwaysdg.com/event/us-and-them-film-screening-panel-discussion/
LOCATION:The Port Theatre\, 132 Montreal Rd\, Cornwall\, ON\, K6H 1B3\, Canada
ATTACH;FMTTYPE=image/png:https://unitedwaysdg.com/wp-content/uploads/2021/10/usthembanner-01-1.png
END:VEVENT
BEGIN:VEVENT
DTSTART;TZID=America/Toronto:20210909T080000
DTEND;TZID=America/Toronto:20210909T100000
DTSTAMP:20260422T184830
CREATED:20210830T143411Z
LAST-MODIFIED:20210831T184706Z
UID:3598-1631174400-1631181600@unitedwaysdg.com
SUMMARY:2021 Campaign Launch in Lamoureux Park
DESCRIPTION:Be part of our 2021 Campaign Kickoff \nShow your local love by launching our 2021 Campaign with us on Thursday\, September 9! This marks the beginning of our four month blitz to raise awareness for local issues and fundraise for local agencies and programs that are tackling them in our region. \n2020 and 2021 have been heavy years. The issues that we’ve been talking about for nearly 80 years were made #UNIGNORABLE by the health\, social and economic impact of the pandemic. We all have a story related COVID-19 whether it’s our own job loss/reduced hours\, health\, mental health\, the strain of many province-wide shutdowns in a short time\, or we watched our friends\, family and community experience these hardships. \nThere is a long road ahead of us. We have a lot of time to talk about and highlight those stories to show how the pandemic has not been felt equally in this community. Tackling the increased poverty related issues and extra demand for vital services due to the pandemic can feel overwhelming. \nWhile we’re feeling the weight of these issues\, we also know that sometimes we need to take a break on these difficult and uncertain days to find the strength to be hopeful. To find humour and lightness from within that helps us keep fighting and advocating for our region. \nBreakfast with a helping of the Questionable Comedians\nWhat better way to stir hope than by adding pinch of laughter? Along with eggs\, sausage\, pastries\, and coffee\, we are serving a heaping spoonful of the Questionable Comedians! Laugh with Jamie Carr\, Mike Baird and Simon Mclinden while learning about the United Way Centraide SDG’s vision for this year. \nWe are not charging for the show but we’re asking people to donate what they can at the event or when they register to enjoy the breakfast. \n \n\n\n\n\n\n\n\n\n\n\n  \n \n  \nDish with our local agencies\nMeet a few of our local agencies who will have a table set up to discuss the vital programs they are running in our region and how its impacting the lives of our most vulnerable communities. Poverty reduction is a community effort that takes many forms. Learn how these agencies are changing lives! \n \n\n\n\n\n\n\n\n\n\n\n\n\n\n\n  \nThe morning’s ingredients \n8:00 am    Check in\, enjoy breakfast and mingle with our team and local agencies\n8:30 am    Welcome from Senator Clement\, Executive Director Juliette Labossière & Campaign Chair Nicholas Seguin\n8:45 am    Comedy Show from Questionable Comedians\n9:15 am    Closing from Senator Clement\n9:20 am    Mingle with our team and local agencies \nBYOC\nBring your own chair or blanket to enjoy the show! There are benches in the park\, but they will be first come first serve. The United Way Centraide SDG will not be providing extra seating for this event. \nThis is a rain or shine event\, so please dress according to the weather. \nHealth and Safety\nYour health and safety is our first priority. This event will follow EOHU COVID-19 guidelines\, including screening upon arrival and mandatory mask wearing when social distancing isn’t possible. We will provide masks if you forget yours!  Hand sanitizer will be readily available when checking in and when picking up food or coffee. \n 
URL:https://unitedwaysdg.com/event/2021-campaign-launch-in-lamoureux-park/
LOCATION:Lions Club Bandshell (Lamoureux Park)\, 100 Water St E\, Cornwall\, Ontario\, K6H 6G4\, Canada
ATTACH;FMTTYPE=image/png:https://unitedwaysdg.com/wp-content/uploads/2021/08/WebSiteFeatureGraphic-01.png
ORGANIZER;CN="United Way SDG":MAILTO:stephanie@unitedwaysdg.com
END:VEVENT
BEGIN:VEVENT
DTSTART;TZID=America/Toronto:20210616T080000
DTEND;TZID=America/Toronto:20210616T090000
DTSTAMP:20260422T184830
CREATED:20210513T174556Z
LAST-MODIFIED:20210513T174556Z
UID:3486-1623830400-1623834000@unitedwaysdg.com
SUMMARY:Annual General Meeting 2020/21
DESCRIPTION:We invite you to attend our Annual General Meeting on Wednesday\, June 16\, 2021 at 8 a.m.\nJoin us for a virtual presentation as we look back over the past year and share the impact we have made in Stormont\, Dundas & Glengarry. Learn about our COVID-19 relief efforts\, our dedicated staff\, the amazing volunteers and generous donors who work together so that United Way Centraide SDG can continue to improve lives and build our community. Together\, we can achieve our vision where individuals\, families and groups live together in a healthy\, safe and respectful community. \nSpace is limited! RSVP below to secure your spot! \n \n 
URL:https://unitedwaysdg.com/event/annual-general-meeting-2020-21/
LOCATION:Ontario
END:VEVENT
BEGIN:VEVENT
DTSTART;TZID=America/Toronto:20210522T080000
DTEND;TZID=America/Toronto:20210620T233000
DTSTAMP:20260422T184830
CREATED:20210528T202442Z
LAST-MODIFIED:20210528T202820Z
UID:3507-1621670400-1624231800@unitedwaysdg.com
SUMMARY:Handbags for Hope
DESCRIPTION:Handbags for Hope\, sponsored by Your Credit Union\, is a new digital fundraiser that brings the fun of our past handbag event into the virtual space with some local self care flare! Whether you’re looking for some shopping therapy or for some wellness inspiration\, see how showing a little local love can also be a form of self care. \nHow you can support: \n\nWellness Bags & Eco Bags\nCurated by many local businesses\, we have developed wellness themed and eco themed bags! They are $100 each and packed with items to help you with your wellness and/or eco goals.\n\n\n\n  \nHandbag Auction\n\nFrom May 25 – 30\, you can treat yourself to some shopping therapy (for a good cause!) by bidding on our 22 handbags. And as an added bonus\, 10 of our bags have been sponsored by local businesses with a little something extra!\n\n\n  \n#7DaysofHope Social Media Challenge\n\nFrom May 26 – June 2\, we’re asking you to share what makes you hopeful right now for a chance to win one year membership to Planet Fitness Cornwall & a United Way SDG branded duffel bag! #7DaysofHopeSDG
URL:https://unitedwaysdg.com/event/handbags-for-hope/
LOCATION:Ontario
ATTACH;FMTTYPE=image/jpeg:https://unitedwaysdg.com/wp-content/uploads/2021/05/EventPageBanner-01-01-scaled.jpg
END:VEVENT
BEGIN:VEVENT
DTSTART;TZID=America/Toronto:20210308T090000
DTEND;TZID=America/Toronto:20210322T170000
DTSTAMP:20260422T184830
CREATED:20210305T193837Z
LAST-MODIFIED:20210316T175123Z
UID:3406-1615194000-1616432400@unitedwaysdg.com
SUMMARY:Tampon Tuesday
DESCRIPTION:  \nTampon Tuesday donation drive in Stormont\, Dundas\, and Glengarry\nDonations will be collected from March 8 – 23\, 2021 at the United Way/Centraide SDG office \nUnited Way/Centraide SDG is excited to run the first Tampon Tuesday product drive in our region\, starting on International Women’s Day. The theme this year is to #ChooseToChallenge\, and we want to use this as an opportunity to raise awareness about period poverty. It’s important that the most vulnerable in our region have access to menstrual hygiene products as they are often the most requested from shelters and foodbanks but the least donated. \nStarting March 8 and running until March 23\, 2021\, community members are encouraged to donate pads\, tampons\, liners\, cups\, and other menstrual hygiene products to help fill this gap in our region. Donated products will be given to Sexual Assault Support Services Stormont\, Dundas\, Glengarry & Akwesasne and Maison Baldwin House. \nHow to give\nCollection Site: Drop off menstrual hygiene products at United Way/Centraide SDG on 55 Water St. West\, Suite 240 \nOnline: Donate products through our Amazon Wish List or send a monetary donation for us to purchase menstrual products here. \nWorkplace and Groups donating and/or doing a collection drive:\nShopper’s Drugmart (located at 1260 Brookdale Ave)\nInspire Community Support Services\nSeaway Valley Community Health Centre \nIf your group or workplace would like to be added to the list please email stephanie@unitedwaysdg.com \nAbout Tampon Tuesday\nStarted in London\, Ontario\, Tampon Tuesday is a grassroots movement about dignity. It started in 2009 to address the increasing need for menstrual hygiene products continues to grow as an opportunity to collect these products for people experiencing period poverty. \n 
URL:https://unitedwaysdg.com/event/tampon-tuesday/
LOCATION:Ontario
END:VEVENT
BEGIN:VEVENT
DTSTART;TZID=America/New_York:20201127T100000
DTEND;TZID=America/New_York:20201218T120000
DTSTAMP:20260422T184830
CREATED:20201123T173050Z
LAST-MODIFIED:20201123T173050Z
UID:3315-1606471200-1608292800@unitedwaysdg.com
SUMMARY:Celebration Sleigh 2020
DESCRIPTION:Celebration Sleigh is back!\nWe’re back again this year with our annual Celebration Sleigh raffle to support the 2020 Campaign\, sponsored by the Bank of Montreal! Get your tickets from Baxtrom’s Your Independent Grocer and Canadian Tire from November 27 – December 18th! \nTickets are $5 each or 3 for $10! \nWeekly Draws\nOn Fridays (November 27\, December 4\, 11 18) at 12 pm\, we will be drawing winners for 2 $100 gift cards (Canadian Tire + Baxtrom’s YIG)! And the earlier you buy your tickets\, the more chances you have to win as your name will stay in the draws each week! \nGrand Prize\nOn Friday\, December 18 at 12 pm\, we will draw this year’s grand prize valued at $2500! Prizes include: \n$1000 cash \n$1000 in gift certificates from the LCBO\, Baxtrom’s YIG\, Canadian Tire and a gas card \n$250 gift from Baxtrom’s YIG \nFitbit Versa 2 \nWhere to buy tickets!\nBaxtrom’s Your Independent Grocer –  31 Ninth St E\, Cornwall \nVolunteers will be on-site at the lottery counter on Fridays\, Saturdays and Sundays 10 am – 2 pm. Tickets are available at the courtesy desk when we’re not there! \nCanadian Tire – 201 Ninth St E\, Cornwall \nTickets available at the cash every day! \nUnited Way SDG – 55 Water St. W\, Suite 240\, Cornwall \nStop by our office from 9 am – 4:30 pm on Monday to Fridays! \n 
URL:https://unitedwaysdg.com/event/celebration-sleigh-2020/
LOCATION:Baxtrom’s YIG + Canadian Tire
END:VEVENT
END:VCALENDAR