BEGIN:VCALENDAR
VERSION:2.0
PRODID:-//United Way of SD&amp;G - ECPv6.15.18//NONSGML v1.0//EN
CALSCALE:GREGORIAN
METHOD:PUBLISH
X-WR-CALNAME:United Way of SD&amp;G
X-ORIGINAL-URL:https://unitedwaysdg.com
X-WR-CALDESC:Events for United Way of SD&amp;G
REFRESH-INTERVAL;VALUE=DURATION:PT1H
X-Robots-Tag:noindex
X-PUBLISHED-TTL:PT1H
BEGIN:VTIMEZONE
TZID:America/Toronto
BEGIN:DAYLIGHT
TZOFFSETFROM:-0500
TZOFFSETTO:-0400
TZNAME:EDT
DTSTART:20230312T070000
END:DAYLIGHT
BEGIN:STANDARD
TZOFFSETFROM:-0400
TZOFFSETTO:-0500
TZNAME:EST
DTSTART:20231105T060000
END:STANDARD
BEGIN:DAYLIGHT
TZOFFSETFROM:-0500
TZOFFSETTO:-0400
TZNAME:EDT
DTSTART:20240310T070000
END:DAYLIGHT
BEGIN:STANDARD
TZOFFSETFROM:-0400
TZOFFSETTO:-0500
TZNAME:EST
DTSTART:20241103T060000
END:STANDARD
BEGIN:DAYLIGHT
TZOFFSETFROM:-0500
TZOFFSETTO:-0400
TZNAME:EDT
DTSTART:20250309T070000
END:DAYLIGHT
BEGIN:STANDARD
TZOFFSETFROM:-0400
TZOFFSETTO:-0500
TZNAME:EST
DTSTART:20251102T060000
END:STANDARD
END:VTIMEZONE
BEGIN:VEVENT
DTSTART;TZID=America/Toronto:20240626T113000
DTEND;TZID=America/Toronto:20240626T133000
DTSTAMP:20260422T232347
CREATED:20240514T201220Z
LAST-MODIFIED:20240514T201220Z
UID:4962-1719401400-1719408600@unitedwaysdg.com
SUMMARY:Annual General Meeting 2024
DESCRIPTION:We invite you to attend our Annual General Meeting on Wednesday\, June 26\, 2024\nJoin us at OPG Saunders Hydro Dam Visitor Centre as we look back over the past year and share the impact we have made in Stormont\, Dundas & Glengarry with your generous support. This year has been about making connections and addressing gaps of care in our community to tackle our region’s most complex social issues. From housing\, to hunger\, to mental health\, and to employment\, we have led and invested in local programs that are helping thousands of people across our region. \nCome a little early to enjoy a light lunch and refreshments before the meeting starts promptly at noon. \nSchedule:\n11:30 am – 12:00 pm: Lunch\, refreshments\, networking\n12:00 pm – 1:30 pm: AGM \nRegister:\nSpace is limited. Please secure your spot: https://www.eventbrite.ca/e/2024-annual-general-meeting-tickets-903437354447
URL:https://unitedwaysdg.com/event/annual-general-meeting-2024/
LOCATION:OPG Saunders Hydro Dam Visitor Center\, 2500 Second Street West\, Cornwall\, Ontario\, K6H 5R6\, Canada
ATTACH;FMTTYPE=image/png:https://unitedwaysdg.com/wp-content/uploads/2024/05/EventPage_Banner-01.png
ORGANIZER;CN="United Way SDG":MAILTO:stephanie@unitedwaysdg.com
END:VEVENT
END:VCALENDAR