BEGIN:VCALENDAR
VERSION:2.0
PRODID:-//United Way of SD&amp;G - ECPv6.15.18//NONSGML v1.0//EN
CALSCALE:GREGORIAN
METHOD:PUBLISH
X-WR-CALNAME:United Way of SD&amp;G
X-ORIGINAL-URL:https://unitedwaysdg.com
X-WR-CALDESC:Events for United Way of SD&amp;G
REFRESH-INTERVAL;VALUE=DURATION:PT1H
X-Robots-Tag:noindex
X-PUBLISHED-TTL:PT1H
BEGIN:VTIMEZONE
TZID:America/Toronto
BEGIN:DAYLIGHT
TZOFFSETFROM:-0500
TZOFFSETTO:-0400
TZNAME:EDT
DTSTART:20220313T070000
END:DAYLIGHT
BEGIN:STANDARD
TZOFFSETFROM:-0400
TZOFFSETTO:-0500
TZNAME:EST
DTSTART:20221106T060000
END:STANDARD
BEGIN:DAYLIGHT
TZOFFSETFROM:-0500
TZOFFSETTO:-0400
TZNAME:EDT
DTSTART:20230312T070000
END:DAYLIGHT
BEGIN:STANDARD
TZOFFSETFROM:-0400
TZOFFSETTO:-0500
TZNAME:EST
DTSTART:20231105T060000
END:STANDARD
BEGIN:DAYLIGHT
TZOFFSETFROM:-0500
TZOFFSETTO:-0400
TZNAME:EDT
DTSTART:20240310T070000
END:DAYLIGHT
BEGIN:STANDARD
TZOFFSETFROM:-0400
TZOFFSETTO:-0500
TZNAME:EST
DTSTART:20241103T060000
END:STANDARD
END:VTIMEZONE
BEGIN:VEVENT
DTSTART;TZID=America/Toronto:20231128T080000
DTEND;TZID=America/Toronto:20231215T120000
DTSTAMP:20260422T184239
CREATED:20231128T182623Z
LAST-MODIFIED:20231128T182623Z
UID:4752-1701158400-1702641600@unitedwaysdg.com
SUMMARY:2023 Celebration Sleigh
DESCRIPTION:Celebration Sleigh is back!\nWe’re back again this year with our annual Celebration Sleigh raffle to support the 2023 Campaign! Get your tickets at Canadian Tire when you check out from now to December 15!\nTickets are $5 each or 3 for $10! \nWeekly Draws\nOn Friday\, Dec 1\, 8\, 15 (12 p.m.) we will be drawing winners for a $200 gift card from Canadian Tire! And the earlier you buy your tickets\, the more chances you have to win as your name will stay in the draws each week! \nGrand Prize\nOn Friday\, December 15 at 12 pm\, we will draw this year’s grand prize valued at $2700! Prizes include: \n\n$1000 cash\n$1000 in gift certificates from the LCBO\, Canadian Tire and a gas card\nPlaystation 5\n\n  \nWhere to buy tickets!\nCanadian Tire Cornwall at 201 Ninth St E\, Cornwall | Tickets available at the cash every day!\nUnited Way SDG Office at 55 Water St. W\, Suite 240\, Cornwall | Stop by our office from 8:30 am – 4:30 pm on Monday to Fridays!
URL:https://unitedwaysdg.com/event/2023-celebration-sleigh/
LOCATION:Canadian Tire Cornwall\, 201 Ninth St\, Cornwall\, Ontario\, K6H 2V1\, Canada
ATTACH;FMTTYPE=image/png:https://unitedwaysdg.com/wp-content/uploads/2023/11/EventPageBanner-01.png
ORGANIZER;CN="United Way SDG":MAILTO:stephanie@unitedwaysdg.com
END:VEVENT
END:VCALENDAR