BEGIN:VCALENDAR
VERSION:2.0
PRODID:-//United Way of SD&amp;G - ECPv6.15.18//NONSGML v1.0//EN
CALSCALE:GREGORIAN
METHOD:PUBLISH
X-ORIGINAL-URL:https://unitedwaysdg.com
X-WR-CALDESC:Events for United Way of SD&amp;G
REFRESH-INTERVAL;VALUE=DURATION:PT1H
X-Robots-Tag:noindex
X-PUBLISHED-TTL:PT1H
BEGIN:VTIMEZONE
TZID:America/Toronto
BEGIN:DAYLIGHT
TZOFFSETFROM:-0500
TZOFFSETTO:-0400
TZNAME:EDT
DTSTART:20220313T070000
END:DAYLIGHT
BEGIN:STANDARD
TZOFFSETFROM:-0400
TZOFFSETTO:-0500
TZNAME:EST
DTSTART:20221106T060000
END:STANDARD
BEGIN:DAYLIGHT
TZOFFSETFROM:-0500
TZOFFSETTO:-0400
TZNAME:EDT
DTSTART:20230312T070000
END:DAYLIGHT
BEGIN:STANDARD
TZOFFSETFROM:-0400
TZOFFSETTO:-0500
TZNAME:EST
DTSTART:20231105T060000
END:STANDARD
BEGIN:DAYLIGHT
TZOFFSETFROM:-0500
TZOFFSETTO:-0400
TZNAME:EDT
DTSTART:20240310T070000
END:DAYLIGHT
BEGIN:STANDARD
TZOFFSETFROM:-0400
TZOFFSETTO:-0500
TZNAME:EST
DTSTART:20241103T060000
END:STANDARD
END:VTIMEZONE
BEGIN:VEVENT
DTSTART;TZID=America/Toronto:20230328T080000
DTEND;TZID=America/Toronto:20230328T160000
DTSTAMP:20260422T071250
CREATED:20230302T003620Z
LAST-MODIFIED:20230302T003746Z
UID:4396-1679990400-1680019200@unitedwaysdg.com
SUMMARY:Tampon Tuesday "Stuff the Bus" with Menstrual Hygiene Products
DESCRIPTION:
URL:https://unitedwaysdg.com/event/tampon-tuesday-stuff-the-bus-with-menstrual-hygiene-products/
LOCATION:Shoppers Drug Mart (Brookdale)\, 1236 Brookdale Ave\, Cornwall\, Ontario\, K6J 4P8\, Canada
ATTACH;FMTTYPE=image/png:https://unitedwaysdg.com/wp-content/uploads/2023/03/StufftheBus_Graphic-01.png
END:VEVENT
END:VCALENDAR